BEGIN:VCALENDAR
VERSION:2.0
PRODID:-//ddaysoftware.com//NONSGML DDay.iCal 1.0//EN
BEGIN:VEVENT
DESCRIPTION:
DTEND:20261003T000000
DTSTAMP:20260420T230324
DTSTART:20260930T000000
LOCATION:Opryland Resort & Convention Center Nashville\, Tennessee 
SEQUENCE:0
SUMMARY:2026 AAID Annual Conference 
UID:1633c38e-76c3-4215-b069-0bde36939f7d
END:VEVENT
END:VCALENDAR
